BEGIN:VCALENDAR
VERSION:2.0
CALSCALE:GREGORIAN
BEGIN:VEVENT
URL:https://www.learndesk.us/class/6218007179165696/lesson/bfc3abe1747c4a3871a90c803f2cb8aa?ref=outlook-calendar
SUMMARY:Week 1 - Day 7
DTSTART;TZID=America/Los_Angeles:20260422T190000
DTEND;TZID=America/Los_Angeles:20260422T200000
LOCATION:https://www.learndesk.us/class/6218007179165696/lesson/bfc3abe1747c4a3871a90c803f2cb8aa?ref=outlook-calendar
DESCRIPTION: Self-reward is so underappreciated. I introduced this in the course because I use it to this day and it gets me out of bed every morning. Even when I know I will have a difficult day that I'm not looking forward to. Or I should say, especially on those days.

https://www.learndesk.us/class/6218007179165696/lesson/bfc3abe1747c4a3871a90c803f2cb8aa?ref=outlook-calendar
STATUS:CONFIRMED
SEQUENCE:3
BEGIN:VALARM
TRIGGER:-PT10M
DESCRIPTION:Class Reminder
ACTION:DISPLAY
END:VALARM
END:VEVENT
END:VCALENDAR