BEGIN:VCALENDAR
VERSION:2.0
CALSCALE:GREGORIAN
BEGIN:VEVENT
URL:https://www.learndesk.us/class/6218007179165696/lesson/baf3f125cae18ae5a72a16ea3192ca51?ref=outlook-calendar
SUMMARY:Week 4 - Introduction
DTSTART;TZID=America/Los_Angeles:20260422T190000
DTEND;TZID=America/Los_Angeles:20260422T200000
LOCATION:https://www.learndesk.us/class/6218007179165696/lesson/baf3f125cae18ae5a72a16ea3192ca51?ref=outlook-calendar
DESCRIPTION: You start by focusing on you and you only, then you widened your focus to your immediate surroundings, and now it's time to think about the future. 

Reminder: Tailor this course towards your needs. Just because I no longer ask you every day to talk to yourself, you may need to do it. The course moves fast from one area to another so it can cover the most important points for self-development, but through self-reflection, you must carry on with the mirror exercise if you feel you need it or drop an exercise you no longer have use for. 

You must feel your needs and personalize this new routine to those needs.

https://www.learndesk.us/class/6218007179165696/lesson/baf3f125cae18ae5a72a16ea3192ca51?ref=outlook-calendar
STATUS:CONFIRMED
SEQUENCE:3
BEGIN:VALARM
TRIGGER:-PT10M
DESCRIPTION:Class Reminder
ACTION:DISPLAY
END:VALARM
END:VEVENT
END:VCALENDAR