BEGIN:VCALENDAR
VERSION:2.0
CALSCALE:GREGORIAN
BEGIN:VEVENT
URL:https://www.learndesk.us/class/6218007179165696/lesson/b747c322a40c4d392ec7756e19c09a0f?ref=outlook-calendar
SUMMARY:Week 1 - Day 2
DTSTART;TZID=America/Los_Angeles:20260422T190000
DTEND;TZID=America/Los_Angeles:20260422T200000
LOCATION:https://www.learndesk.us/class/6218007179165696/lesson/b747c322a40c4d392ec7756e19c09a0f?ref=outlook-calendar
DESCRIPTION: Start noticing how this mirror exercise affects you. If it's very bad, you might need to work on this even after I no longer ask you on the course and make it your daily routine. If it's great and you feel you don't need the 2 minutes, I suggest you keep practicing because you never know what might come to the surface by not giving up on it just yet.

Tips for confident body posture:

Since people can read your nonverbal communication like an open book, you might want to be sure to make the best possible first impression without words. Your posture affects the way you feel. If you hunch your back and cross your arms often, it shows great insecurities and it makes you feel shy and quiet. Like you are hiding from people. If a business professional sees that, she will most probably hire someone else with a confident appearance. 

So here is how you learn it without having to make an effort: First, try it, stand up and pull your shoulders back - don't over exaggerate by pushing your...

https://www.learndesk.us/class/6218007179165696/lesson/b747c322a40c4d392ec7756e19c09a0f?ref=outlook-calendar
STATUS:CONFIRMED
SEQUENCE:3
BEGIN:VALARM
TRIGGER:-PT10M
DESCRIPTION:Class Reminder
ACTION:DISPLAY
END:VALARM
END:VEVENT
END:VCALENDAR