BEGIN:VCALENDAR
VERSION:2.0
CALSCALE:GREGORIAN
BEGIN:VEVENT
URL:https://www.learndesk.us/class/6218007179165696/lesson/b4e1850245cf7ff190bdc06084319fee?ref=outlook-calendar
SUMMARY:Week 4 - Day 6
DTSTART;TZID=America/Los_Angeles:20260422T190000
DTEND;TZID=America/Los_Angeles:20260422T200000
LOCATION:https://www.learndesk.us/class/6218007179165696/lesson/b4e1850245cf7ff190bdc06084319fee?ref=outlook-calendar
DESCRIPTION: Just think about it, if you didn't have a safety net below you, would you focus extra hard on the rope you are balancing on?

https://www.learndesk.us/class/6218007179165696/lesson/b4e1850245cf7ff190bdc06084319fee?ref=outlook-calendar
STATUS:CONFIRMED
SEQUENCE:3
BEGIN:VALARM
TRIGGER:-PT10M
DESCRIPTION:Class Reminder
ACTION:DISPLAY
END:VALARM
END:VEVENT
END:VCALENDAR