BEGIN:VCALENDAR
VERSION:2.0
CALSCALE:GREGORIAN
BEGIN:VEVENT
URL:https://www.learndesk.us/class/6218007179165696/lesson/ae37c7000089fcb930838b6913966a31?ref=outlook-calendar
SUMMARY:Week 2 - Introduction
DTSTART;TZID=America/Los_Angeles:20260422T190000
DTEND;TZID=America/Los_Angeles:20260422T200000
LOCATION:https://www.learndesk.us/class/6218007179165696/lesson/ae37c7000089fcb930838b6913966a31?ref=outlook-calendar
DESCRIPTION: This week we are going to shift your main focus from the outer look to the inside. They say beauty shines from within for a reason. 

So many of us aren't even aware of just how "lucky" we are, but that's about to change.

Also, if you even felt or said that you will be happy once you...wrong. Having future expectations determine your happiness carry a huge risk of unhappiness. What if you will never get there, or once you do, you realize that it doesn't actually make you as happy as you hoped. 

Living in the now is a game changer. Why wait for the uncertain future if you can be happy today?

Many are stuck in the past, I was happy when...or I can't be happy because of what happened in the past. Some of you might have a very legitimate reason, but whatever happened, happened. The past will always be a part of who you are, but it cannot be present in the present. If your happiness is fragile and it depends on others, possibilities or external sources, then you do not have...

https://www.learndesk.us/class/6218007179165696/lesson/ae37c7000089fcb930838b6913966a31?ref=outlook-calendar
STATUS:CONFIRMED
SEQUENCE:3
BEGIN:VALARM
TRIGGER:-PT10M
DESCRIPTION:Class Reminder
ACTION:DISPLAY
END:VALARM
END:VEVENT
END:VCALENDAR