BEGIN:VCALENDAR
VERSION:2.0
CALSCALE:GREGORIAN
BEGIN:VEVENT
URL:https://www.learndesk.us/class/6218007179165696/lesson/ae0ed0b3eacedac4e1a5c0fd145c05c8?ref=outlook-calendar
SUMMARY:What else?
DTSTART;TZID=America/Los_Angeles:20260424T190000
DTEND;TZID=America/Los_Angeles:20260424T200000
LOCATION:https://www.learndesk.us/class/6218007179165696/lesson/ae0ed0b3eacedac4e1a5c0fd145c05c8?ref=outlook-calendar
DESCRIPTION: Start each morning well! Don't overwhelm yourself with negativity from the media, emails and other distractions.

https://www.learndesk.us/class/6218007179165696/lesson/ae0ed0b3eacedac4e1a5c0fd145c05c8?ref=outlook-calendar
STATUS:CONFIRMED
SEQUENCE:3
BEGIN:VALARM
TRIGGER:-PT10M
DESCRIPTION:Class Reminder
ACTION:DISPLAY
END:VALARM
END:VEVENT
END:VCALENDAR