BEGIN:VCALENDAR
VERSION:2.0
CALSCALE:GREGORIAN
BEGIN:VEVENT
URL:https://www.learndesk.us/class/6218007179165696/lesson/95562d177a685b0ddf0272a4c5dbfe7b?ref=outlook-calendar
SUMMARY:Week 3 - Day 3
DTSTART;TZID=America/Los_Angeles:20260424T190000
DTEND;TZID=America/Los_Angeles:20260424T200000
LOCATION:https://www.learndesk.us/class/6218007179165696/lesson/95562d177a685b0ddf0272a4c5dbfe7b?ref=outlook-calendar
DESCRIPTION: Don't forget about your lists. Read through all of them before going to bed, so the last thought your mind thinks about is positive and motivating. Let your mind work with those thoughts overnight.

https://www.learndesk.us/class/6218007179165696/lesson/95562d177a685b0ddf0272a4c5dbfe7b?ref=outlook-calendar
STATUS:CONFIRMED
SEQUENCE:3
BEGIN:VALARM
TRIGGER:-PT10M
DESCRIPTION:Class Reminder
ACTION:DISPLAY
END:VALARM
END:VEVENT
END:VCALENDAR