BEGIN:VCALENDAR
VERSION:2.0
CALSCALE:GREGORIAN
BEGIN:VEVENT
URL:https://www.learndesk.us/class/6218007179165696/lesson/8779ec4d550b212139ac732585db0efa?ref=outlook-calendar
SUMMARY:Week 1 - Day 5
DTSTART;TZID=America/Los_Angeles:20260422T190000
DTEND;TZID=America/Los_Angeles:20260422T200000
LOCATION:https://www.learndesk.us/class/6218007179165696/lesson/8779ec4d550b212139ac732585db0efa?ref=outlook-calendar
DESCRIPTION: The uncomfortable gets comfortable by practice, so if you still feel very strange in front of the mirror, you may start spending a bit more time on this exercise. Remember this is your course, you can tailor it to your needs.

I had a student who quit the course after 2 weeks, but then something amazing happened, here is her experience:

“The mirror was brutal. So much so that the first time I looked at myself I started crying. Instead of it helping me, I felt way worse than before. I just couldn’t compliment myself. I hated what I saw. As the days went by I felt worse and worse. And then I arrived in the second week. By the middle of week 2, I gave up and quit the course. It was a shocking experience and I didn’t want to do it again.

Then as the days went by I noticed how I felt better. I thought it was because I quit the course, but then when I walked into a store, I bought myself a sexy red, skinny dress for the first time in 20 years. Even my body posture had changed. I was...

https://www.learndesk.us/class/6218007179165696/lesson/8779ec4d550b212139ac732585db0efa?ref=outlook-calendar
STATUS:CONFIRMED
SEQUENCE:3
BEGIN:VALARM
TRIGGER:-PT10M
DESCRIPTION:Class Reminder
ACTION:DISPLAY
END:VALARM
END:VEVENT
END:VCALENDAR