BEGIN:VCALENDAR
VERSION:2.0
CALSCALE:GREGORIAN
BEGIN:VEVENT
URL:https://www.learndesk.us/class/6218007179165696/lesson/865e904a2163b04833192f12e4b0cf5f?ref=outlook-calendar
SUMMARY:After the list
DTSTART;TZID=America/Los_Angeles:20260422T190000
DTEND;TZID=America/Los_Angeles:20260422T200000
LOCATION:https://www.learndesk.us/class/6218007179165696/lesson/865e904a2163b04833192f12e4b0cf5f?ref=outlook-calendar
DESCRIPTION: Some more instructions for your very first list.

https://www.learndesk.us/class/6218007179165696/lesson/865e904a2163b04833192f12e4b0cf5f?ref=outlook-calendar
STATUS:CONFIRMED
SEQUENCE:3
BEGIN:VALARM
TRIGGER:-PT10M
DESCRIPTION:Class Reminder
ACTION:DISPLAY
END:VALARM
END:VEVENT
END:VCALENDAR