BEGIN:VCALENDAR
VERSION:2.0
CALSCALE:GREGORIAN
BEGIN:VEVENT
URL:https://www.learndesk.us/class/6218007179165696/lesson/7b23cad162baf83893642d310cf4ea74?ref=outlook-calendar
SUMMARY:Week 2 - Day 5
DTSTART;TZID=America/Los_Angeles:20260424T190000
DTEND;TZID=America/Los_Angeles:20260424T200000
LOCATION:https://www.learndesk.us/class/6218007179165696/lesson/7b23cad162baf83893642d310cf4ea74?ref=outlook-calendar
DESCRIPTION: Look fabulous today! Don't reserve your best days for special occasions.

https://www.learndesk.us/class/6218007179165696/lesson/7b23cad162baf83893642d310cf4ea74?ref=outlook-calendar
STATUS:CONFIRMED
SEQUENCE:3
BEGIN:VALARM
TRIGGER:-PT10M
DESCRIPTION:Class Reminder
ACTION:DISPLAY
END:VALARM
END:VEVENT
END:VCALENDAR