BEGIN:VCALENDAR
VERSION:2.0
CALSCALE:GREGORIAN
BEGIN:VEVENT
URL:https://www.learndesk.us/class/6218007179165696/lesson/762c40dab7e68e43b2e9138ff3347baa?ref=outlook-calendar
SUMMARY:Week 3 - Meditation
DTSTART;TZID=America/Los_Angeles:20260422T190000
DTEND;TZID=America/Los_Angeles:20260422T200000
LOCATION:https://www.learndesk.us/class/6218007179165696/lesson/762c40dab7e68e43b2e9138ff3347baa?ref=outlook-calendar
DESCRIPTION: This meditation video was inspired by other life coaches who are more involved in spirituality. I've done this myself and the results I saw over the sessions were incredible. The goal here is to calm yourself, find a safe place within where you feel peace and try taking in all the love that surrounds you. 

This is all about focus and visualization, so the more effort you put in, the more you get out.

Happy meditation!

https://www.learndesk.us/class/6218007179165696/lesson/762c40dab7e68e43b2e9138ff3347baa?ref=outlook-calendar
STATUS:CONFIRMED
SEQUENCE:3
BEGIN:VALARM
TRIGGER:-PT10M
DESCRIPTION:Class Reminder
ACTION:DISPLAY
END:VALARM
END:VEVENT
END:VCALENDAR