BEGIN:VCALENDAR
VERSION:2.0
CALSCALE:GREGORIAN
BEGIN:VEVENT
URL:https://www.learndesk.us/class/6218007179165696/lesson/7488d3fb0743fa2cf3d4b175359d5ee0?ref=outlook-calendar
SUMMARY:Week 3 - Introduction
DTSTART;TZID=America/Los_Angeles:20260422T190000
DTEND;TZID=America/Los_Angeles:20260422T200000
LOCATION:https://www.learndesk.us/class/6218007179165696/lesson/7488d3fb0743fa2cf3d4b175359d5ee0?ref=outlook-calendar
DESCRIPTION: The emotionally unaware or unavailable come from damaged childhoods. Some are not even aware of this. We are by design emotional. If you or someone you care about is difficult to approach through the heart, I suggest you read more about the attachment theory (4 attachment types) from Jeb Kinnison online. This helps you understand how your childhood affected your adulthood, why are you attracted to the same kind of people, why do you have the relationship that you have with your parents or caregivers and so on.

This is the first major step towards deep self-development and if you feel ready to uncover some of the ugly truth, go ahead and read Jeb Kinnison's articles for each attachment types: Secure, Fearful-Avoidant, Dismissive-Avoidant, Anxious-Preoccupied. 

Then try to categorize yourself. You might fit into 2-3 or all 4 categories to some extent, but one will be dominant. So here we go: 

Secure:...

https://www.learndesk.us/class/6218007179165696/lesson/7488d3fb0743fa2cf3d4b175359d5ee0?ref=outlook-calendar
STATUS:CONFIRMED
SEQUENCE:3
BEGIN:VALARM
TRIGGER:-PT10M
DESCRIPTION:Class Reminder
ACTION:DISPLAY
END:VALARM
END:VEVENT
END:VCALENDAR