BEGIN:VCALENDAR
VERSION:2.0
CALSCALE:GREGORIAN
BEGIN:VEVENT
URL:https://www.learndesk.us/class/6218007179165696/lesson/715690b0c19f454232fbd982aeced54f?ref=outlook-calendar
SUMMARY:Week 4 - Day 5
DTSTART;TZID=America/Los_Angeles:20260422T190000
DTEND;TZID=America/Los_Angeles:20260422T200000
LOCATION:https://www.learndesk.us/class/6218007179165696/lesson/715690b0c19f454232fbd982aeced54f?ref=outlook-calendar
DESCRIPTION: Today is going to be very painful for some of you. Bringing up the past can be traumatic, but think about it like this. If you cover dog poop with newspaper, you can't see it, but it's still there. And it will stink for the rest of your life until you clean it up. The past can stink just as bad.

Freeing yourself from the ghosts of the past will physically feel lighter. Don't fool yourself by expecting the past to be forgiven in a day. Something that happened to me took 2 years to forgive, but if you make a conscious effort to start the process today, you give yourself a chance to eventually be able to move on.

https://www.learndesk.us/class/6218007179165696/lesson/715690b0c19f454232fbd982aeced54f?ref=outlook-calendar
STATUS:CONFIRMED
SEQUENCE:3
BEGIN:VALARM
TRIGGER:-PT10M
DESCRIPTION:Class Reminder
ACTION:DISPLAY
END:VALARM
END:VEVENT
END:VCALENDAR