BEGIN:VCALENDAR
VERSION:2.0
CALSCALE:GREGORIAN
BEGIN:VEVENT
URL:https://www.learndesk.us/class/6218007179165696/lesson/620b3d9a447db069d279fe918e47185c?ref=outlook-calendar
SUMMARY:Week 1 - Day 6
DTSTART;TZID=America/Los_Angeles:20260422T190000
DTEND;TZID=America/Los_Angeles:20260422T200000
LOCATION:https://www.learndesk.us/class/6218007179165696/lesson/620b3d9a447db069d279fe918e47185c?ref=outlook-calendar
DESCRIPTION: Today I'm introducing a new trick. This is one of the easiest ways to feel better or rainy days. But as easy as it looks, it is not when you are in a bad mood. If you manage to use this tool when you are irritated or grumpy, you will demonstrate to yourself just how strong your willpower is. Sometimes the smallest things bring the biggest results.

Tomorrow you will need a few more minutes so make sure you wake up a bit earlier to give yourself that extra time without rushing it.

https://www.learndesk.us/class/6218007179165696/lesson/620b3d9a447db069d279fe918e47185c?ref=outlook-calendar
STATUS:CONFIRMED
SEQUENCE:3
BEGIN:VALARM
TRIGGER:-PT10M
DESCRIPTION:Class Reminder
ACTION:DISPLAY
END:VALARM
END:VEVENT
END:VCALENDAR