BEGIN:VCALENDAR
VERSION:2.0
CALSCALE:GREGORIAN
BEGIN:VEVENT
URL:https://www.learndesk.us/class/6218007179165696/lesson/6104978640a3c93bec10e6e1a50e6c8f?ref=outlook-calendar
SUMMARY:Why always in the morning and in the evening?
DTSTART;TZID=America/Los_Angeles:20260422T190000
DTEND;TZID=America/Los_Angeles:20260422T200000
LOCATION:https://www.learndesk.us/class/6218007179165696/lesson/6104978640a3c93bec10e6e1a50e6c8f?ref=outlook-calendar
DESCRIPTION: Here is the explanation of why all the exercises need to happen in the morning and in the evening.

https://www.learndesk.us/class/6218007179165696/lesson/6104978640a3c93bec10e6e1a50e6c8f?ref=outlook-calendar
STATUS:CONFIRMED
SEQUENCE:3
BEGIN:VALARM
TRIGGER:-PT10M
DESCRIPTION:Class Reminder
ACTION:DISPLAY
END:VALARM
END:VEVENT
END:VCALENDAR