BEGIN:VCALENDAR
VERSION:2.0
CALSCALE:GREGORIAN
BEGIN:VEVENT
URL:https://www.learndesk.us/class/6218007179165696/lesson/60d200abbf2a6cc3965551d56e58e84e?ref=outlook-calendar
SUMMARY:Before you start day 1
DTSTART;TZID=America/Los_Angeles:20260424T190000
DTEND;TZID=America/Los_Angeles:20260424T200000
LOCATION:https://www.learndesk.us/class/6218007179165696/lesson/60d200abbf2a6cc3965551d56e58e84e?ref=outlook-calendar
DESCRIPTION: Get a pen and paper (preferably an exercise book so you can keep all your written work in one place in the future) before you start the video!

https://www.learndesk.us/class/6218007179165696/lesson/60d200abbf2a6cc3965551d56e58e84e?ref=outlook-calendar
STATUS:CONFIRMED
SEQUENCE:3
BEGIN:VALARM
TRIGGER:-PT10M
DESCRIPTION:Class Reminder
ACTION:DISPLAY
END:VALARM
END:VEVENT
END:VCALENDAR