BEGIN:VCALENDAR
VERSION:2.0
CALSCALE:GREGORIAN
BEGIN:VEVENT
URL:https://www.learndesk.us/class/6218007179165696/lesson/5f21cf811f360aa7a5064272bb05ab3e?ref=outlook-calendar
SUMMARY:Week 1 - Introduction
DTSTART;TZID=America/Los_Angeles:20260422T190000
DTEND;TZID=America/Los_Angeles:20260422T200000
LOCATION:https://www.learndesk.us/class/6218007179165696/lesson/5f21cf811f360aa7a5064272bb05ab3e?ref=outlook-calendar
DESCRIPTION: 5. Most of my student who comes for private coaching have an idea of what they want to work on, but they are just scratching the surface. As you can't see yourself from someone else's perspective, it is hard to know what the issue really is. The course helps you to dig deeper if you dedicate your time and energy to it. 

6. Make no mistake, those who claim that after a few weeks you are going to be rich, successful, powerful, confident and amazing in every way, are scrams. In reality, change takes time and learning a new habit takes at least 21 days. The course is 28 days long for a reason. Each exercise will kickstart something inside of you. You will practice these all through the 4 weeks until the results (overall feelings about yourself and your surroundings) will become second nature. So you can carry on with the work without difficulties. 

7. Self-development is never done. Some of the changes might take years to accomplish (for example forgiving a painful experience of the...

https://www.learndesk.us/class/6218007179165696/lesson/5f21cf811f360aa7a5064272bb05ab3e?ref=outlook-calendar
STATUS:CONFIRMED
SEQUENCE:3
BEGIN:VALARM
TRIGGER:-PT10M
DESCRIPTION:Class Reminder
ACTION:DISPLAY
END:VALARM
END:VEVENT
END:VCALENDAR