BEGIN:VCALENDAR
VERSION:2.0
CALSCALE:GREGORIAN
BEGIN:VEVENT
URL:https://www.learndesk.us/class/6218007179165696/lesson/5a94490964f0f440c896268a27545ee5?ref=outlook-calendar
SUMMARY:Handy Trick - part 2
DTSTART;TZID=America/Los_Angeles:20260424T190000
DTEND;TZID=America/Los_Angeles:20260424T200000
LOCATION:https://www.learndesk.us/class/6218007179165696/lesson/5a94490964f0f440c896268a27545ee5?ref=outlook-calendar
DESCRIPTION: https://www.learndesk.us/class/6218007179165696/lesson/5a94490964f0f440c896268a27545ee5?ref=outlook-calendar
STATUS:CONFIRMED
SEQUENCE:3
BEGIN:VALARM
TRIGGER:-PT10M
DESCRIPTION:Class Reminder
ACTION:DISPLAY
END:VALARM
END:VEVENT
END:VCALENDAR