BEGIN:VCALENDAR
VERSION:2.0
CALSCALE:GREGORIAN
BEGIN:VEVENT
URL:https://www.learndesk.us/class/6218007179165696/lesson/584f3d5ad7f269b20e68529ddb1f3869?ref=outlook-calendar
SUMMARY:Week 2 - Day 1
DTSTART;TZID=America/Los_Angeles:20260422T190000
DTEND;TZID=America/Los_Angeles:20260422T200000
LOCATION:https://www.learndesk.us/class/6218007179165696/lesson/584f3d5ad7f269b20e68529ddb1f3869?ref=outlook-calendar
DESCRIPTION: As you are still training your subconscious, make sure you speak nicely to yourself. Motivate yourself. Treat yourself well. 

Also, from today you will notice little things that you walk by day in day out. Why? Because this is part of your training of 'living in the now'. To see just how much you have helps your brain to shift the focus from the 'lack' to the 'abundance'. To become a master of positive thinking takes time and by appreciating your surroundings you are making a step forward.  

Start a list of things you are thankful for and add to it anytime something comes to mind.

Reminder: I ask you to write so much because writing forces you to think in detail, verbalize and remember. The lists serve as a reminder for your conscious and subconscious.   

Here is a great video from David Steindl-Rast - Gratefulness and gratitude expert to help you even more:

https://www.ted.com/talks/david_steindl_rast_want_to_be_happy_be_grateful#t-854423

https://www.learndesk.us/class/6218007179165696/lesson/584f3d5ad7f269b20e68529ddb1f3869?ref=outlook-calendar
STATUS:CONFIRMED
SEQUENCE:3
BEGIN:VALARM
TRIGGER:-PT10M
DESCRIPTION:Class Reminder
ACTION:DISPLAY
END:VALARM
END:VEVENT
END:VCALENDAR