BEGIN:VCALENDAR
VERSION:2.0
CALSCALE:GREGORIAN
BEGIN:VEVENT
URL:https://www.learndesk.us/class/6218007179165696/lesson/53435537c10eae3aa9b68d5befdf1f5e?ref=outlook-calendar
SUMMARY:Handy Trick - part 1
DTSTART;TZID=America/Los_Angeles:20260422T190000
DTEND;TZID=America/Los_Angeles:20260422T200000
LOCATION:https://www.learndesk.us/class/6218007179165696/lesson/53435537c10eae3aa9b68d5befdf1f5e?ref=outlook-calendar
DESCRIPTION: I always used this tool before a job interview or anything intimidating that I could prepare for. Think of a predictable situation where you feel most vulnerable. I suggest you use this technique for a quick confidence boost. This is what I call the "soul antibiotic" which works like the 'medications against viruses'. In general, there is no medication for a virus infection. Meds treat our symptoms, but not the illness itself, that's the immune system's job. For example, you have the flu, you can take meds for fever and pain, but it won't kill the virus, just decreases your suffering until your body fights it. 

This technique is designed for symptoms until you gain real self-confidence.

https://www.learndesk.us/class/6218007179165696/lesson/53435537c10eae3aa9b68d5befdf1f5e?ref=outlook-calendar
STATUS:CONFIRMED
SEQUENCE:3
BEGIN:VALARM
TRIGGER:-PT10M
DESCRIPTION:Class Reminder
ACTION:DISPLAY
END:VALARM
END:VEVENT
END:VCALENDAR