BEGIN:VCALENDAR
VERSION:2.0
CALSCALE:GREGORIAN
BEGIN:VEVENT
URL:https://www.learndesk.us/class/6218007179165696/lesson/4cbcf450ef48397aa515fd7f1439c6c7?ref=outlook-calendar
SUMMARY:Week 3 - Breathing Exercise - if you still need it
DTSTART;TZID=America/Los_Angeles:20260422T190000
DTEND;TZID=America/Los_Angeles:20260422T200000
LOCATION:https://www.learndesk.us/class/6218007179165696/lesson/4cbcf450ef48397aa515fd7f1439c6c7?ref=outlook-calendar
DESCRIPTION: If you still feel the pain, it is difficult to compliment yourself or to be thankful for something or sharing the love with others just go ahead and do the breathing exercise as many times as you need to.

https://www.learndesk.us/class/6218007179165696/lesson/4cbcf450ef48397aa515fd7f1439c6c7?ref=outlook-calendar
STATUS:CONFIRMED
SEQUENCE:3
BEGIN:VALARM
TRIGGER:-PT10M
DESCRIPTION:Class Reminder
ACTION:DISPLAY
END:VALARM
END:VEVENT
END:VCALENDAR