BEGIN:VCALENDAR
VERSION:2.0
CALSCALE:GREGORIAN
BEGIN:VEVENT
URL:https://www.learndesk.us/class/6218007179165696/lesson/47d536c43a6814157c7489defaa7297f?ref=outlook-calendar
SUMMARY:Week 3 - Day 4
DTSTART;TZID=America/Los_Angeles:20260422T190000
DTEND;TZID=America/Los_Angeles:20260422T200000
LOCATION:https://www.learndesk.us/class/6218007179165696/lesson/47d536c43a6814157c7489defaa7297f?ref=outlook-calendar
DESCRIPTION: Make the mirror your friend anywhere you go.

https://www.learndesk.us/class/6218007179165696/lesson/47d536c43a6814157c7489defaa7297f?ref=outlook-calendar
STATUS:CONFIRMED
SEQUENCE:3
BEGIN:VALARM
TRIGGER:-PT10M
DESCRIPTION:Class Reminder
ACTION:DISPLAY
END:VALARM
END:VEVENT
END:VCALENDAR