BEGIN:VCALENDAR
VERSION:2.0
CALSCALE:GREGORIAN
BEGIN:VEVENT
URL:https://www.learndesk.us/class/6218007179165696/lesson/289e4a7f65e0400d9ad6c3e2b1c7918d?ref=outlook-calendar
SUMMARY:Week 2 - Day 6
DTSTART;TZID=America/Los_Angeles:20260422T190000
DTEND;TZID=America/Los_Angeles:20260422T200000
LOCATION:https://www.learndesk.us/class/6218007179165696/lesson/289e4a7f65e0400d9ad6c3e2b1c7918d?ref=outlook-calendar
DESCRIPTION: Start with some self-reflection then carry on with your exercises.

https://www.learndesk.us/class/6218007179165696/lesson/289e4a7f65e0400d9ad6c3e2b1c7918d?ref=outlook-calendar
STATUS:CONFIRMED
SEQUENCE:3
BEGIN:VALARM
TRIGGER:-PT10M
DESCRIPTION:Class Reminder
ACTION:DISPLAY
END:VALARM
END:VEVENT
END:VCALENDAR