BEGIN:VCALENDAR
VERSION:2.0
CALSCALE:GREGORIAN
BEGIN:VEVENT
URL:https://www.learndesk.us/class/6218007179165696/lesson/2247dccf5c5b56fce9576989d0e54130?ref=outlook-calendar
SUMMARY:Week 4 - Day 7
DTSTART;TZID=America/Los_Angeles:20260422T190000
DTEND;TZID=America/Los_Angeles:20260422T200000
LOCATION:https://www.learndesk.us/class/6218007179165696/lesson/2247dccf5c5b56fce9576989d0e54130?ref=outlook-calendar
DESCRIPTION: Never compare yourself to others, only to yourself. How you used to be and how you are now. This is a rule of thumb because comparing yourself to others leaves a lot of room for disappointment or looking down on others. You may take someone as an example to follow or not to follow, but because each person is measured on their own scale, they can't be compared. 

For example if your dream is to climb the ladder and become a senior partner at a law firm and your best friend's dream is to travel the world on a budget, you would feel you are better than him, because you are making responsible choices, you are making money to secure your future and you are more successful. Or you would feel trapped and become jealous of your friend. None of them sound like a good option.

While he might think you are wasting your life between walls, not exploring the wonders of the world and you limit your learning by staying in one place. Or he would feel resentment towards you because you look down on...

https://www.learndesk.us/class/6218007179165696/lesson/2247dccf5c5b56fce9576989d0e54130?ref=outlook-calendar
STATUS:CONFIRMED
SEQUENCE:3
BEGIN:VALARM
TRIGGER:-PT10M
DESCRIPTION:Class Reminder
ACTION:DISPLAY
END:VALARM
END:VEVENT
END:VCALENDAR