BEGIN:VCALENDAR
VERSION:2.0
CALSCALE:GREGORIAN
BEGIN:VEVENT
URL:https://www.learndesk.us/class/6218007179165696/lesson/0d22122a5d6f7be4334c82813788060f?ref=outlook-calendar
SUMMARY:Week 2 - Day 3
DTSTART;TZID=America/Los_Angeles:20260422T190000
DTEND;TZID=America/Los_Angeles:20260422T200000
LOCATION:https://www.learndesk.us/class/6218007179165696/lesson/0d22122a5d6f7be4334c82813788060f?ref=outlook-calendar
DESCRIPTION: With each day, with each exercise, with each practice you are creating a new neuro path for thinking positively and weakening negative paths like complaining, blaming, limiting yourself.

Also, today you must write a list of all the activities you love doing. Why? Because this is part of your training to find passion. Clarifying, verbalizing and writing them down gives your brain that positivity boost it needs. This exercise also serves as a reminder to not forget to do something you enjoy. You might love to take morning walks but you haven't done them in 6 months because you were so preoccupied with other things. Let yourself remember all your joys so they can be part of your every day again.

https://www.learndesk.us/class/6218007179165696/lesson/0d22122a5d6f7be4334c82813788060f?ref=outlook-calendar
STATUS:CONFIRMED
SEQUENCE:3
BEGIN:VALARM
TRIGGER:-PT10M
DESCRIPTION:Class Reminder
ACTION:DISPLAY
END:VALARM
END:VEVENT
END:VCALENDAR