BEGIN:VCALENDAR
VERSION:2.0
CALSCALE:GREGORIAN
BEGIN:VEVENT
URL:https://www.learndesk.us/class/6218007179165696/lesson/063e6a475b6f90095a4548698f81d240?ref=outlook-calendar
SUMMARY:Week 2 - Day 2
DTSTART;TZID=America/Los_Angeles:20260422T190000
DTEND;TZID=America/Los_Angeles:20260422T200000
LOCATION:https://www.learndesk.us/class/6218007179165696/lesson/063e6a475b6f90095a4548698f81d240?ref=outlook-calendar
DESCRIPTION: Your 3 exercises today:

- Power position

- Add to your thankful list

- Compliment yourself

https://www.learndesk.us/class/6218007179165696/lesson/063e6a475b6f90095a4548698f81d240?ref=outlook-calendar
STATUS:CONFIRMED
SEQUENCE:3
BEGIN:VALARM
TRIGGER:-PT10M
DESCRIPTION:Class Reminder
ACTION:DISPLAY
END:VALARM
END:VEVENT
END:VCALENDAR