BEGIN:VCALENDAR
VERSION:2.0
CALSCALE:GREGORIAN
BEGIN:VEVENT
URL:https://www.learndesk.us/class/6218007179165696/lesson/029f4f58e2b222036568b3192ef5a1c2?ref=outlook-calendar
SUMMARY:Special Goodbye Message
DTSTART;TZID=America/Los_Angeles:20260422T190000
DTEND;TZID=America/Los_Angeles:20260422T200000
LOCATION:https://www.learndesk.us/class/6218007179165696/lesson/029f4f58e2b222036568b3192ef5a1c2?ref=outlook-calendar
DESCRIPTION: This course was put together over 5 months, it was tested by volunteers and tweaked multiple times to give you the best tools in the best form possible. Please leave a review of your experience. Your feedback helps other students to decide if they need the course or not.

If you need guidelines on where to leave the feedback just visit this page:

My Facebook: https://www.facebook.com/mysevenworldslifecoaching/

My Instagram: https://www.instagram.com/mysevenworlds/

Private coaching, exotic coaching retreats, ebooks and more: http://mysevenworlds.com/

https://www.learndesk.us/class/6218007179165696/lesson/029f4f58e2b222036568b3192ef5a1c2?ref=outlook-calendar
STATUS:CONFIRMED
SEQUENCE:3
BEGIN:VALARM
TRIGGER:-PT10M
DESCRIPTION:Class Reminder
ACTION:DISPLAY
END:VALARM
END:VEVENT
END:VCALENDAR