BEGIN:VCALENDAR
VERSION:2.0
CALSCALE:GREGORIAN
BEGIN:VEVENT
URL:https://www.learndesk.us/class/6218007179165696/boost-your-self-confidence-by-learning-how-to-love-yourself-unconditionally?ref=outlook-calendar
SUMMARY:Boost Your Self-Confidence By Learning How To Love Yourself Unconditionally
DTSTART;TZID=America/Los_Angeles:20260422T190000
DTEND;TZID=America/Los_Angeles:20260422T200000
LOCATION:https://www.learndesk.us/class/6218007179165696/boost-your-self-confidence-by-learning-how-to-love-yourself-unconditionally?ref=outlook-calendar
DESCRIPTION: 
This course is designed to teach you how to create a healthy routine and environment to accommodate your personal growth. If you are someone who regularly says any of these the following statements, then this course is for you:
I don't like my belly.
I'm too old/young to do this.
I'm not qualified enough to get that job.
I work with a lot of idiots.
Why does bad stuff only happen to me?
Basically, a lot of people live with limiting beliefs, mostly about themselves. They will come up with excuses why they didn't do something or blame others for the lack of success, but in reality, they are the only people in their own way. We tend not to believe that we can have it all, limiting ourselves to a mediocre "it's not too bad" life. But what if you could live your dreams without feeling guilty or bad in any way?
Over the course:
You will learn the tested & working formula to accept yourself for who you are
Love the person you are
You will create a need to become better and 
You will...

https://www.learndesk.us/class/6218007179165696/boost-your-self-confidence-by-learning-how-to-love-yourself-unconditionally?ref=outlook-calendar
STATUS:CONFIRMED
SEQUENCE:3
BEGIN:VALARM
TRIGGER:-PT10M
DESCRIPTION:Class Reminder
ACTION:DISPLAY
END:VALARM
END:VEVENT
END:VCALENDAR