BEGIN:VCALENDAR
VERSION:2.0
CALSCALE:GREGORIAN
BEGIN:VEVENT
URL:https://www.learndesk.us/class/6216049299030016/anybody-can-design-in-catia-v5-master-program?ref=outlook-calendar
SUMMARY:Anybody Can Design In CATIA V5 Master Program
DTSTART;TZID=America/Los_Angeles:20260423T190000
DTEND;TZID=America/Los_Angeles:20260423T200000
LOCATION:https://www.learndesk.us/class/6216049299030016/anybody-can-design-in-catia-v5-master-program?ref=outlook-calendar
DESCRIPTION: The course is curated in a way to make Proficient designers with expertise in CATIA V5. The program covers the major design workbenches like Sketcher, Part Design, Shape design, assembly, and drafting with brief explanations on almost all the tools and options. The participants can really visualize the transformation from a beginner CATIA user to a Proficient user. The program brings out the creative designer in you.

https://www.learndesk.us/class/6216049299030016/anybody-can-design-in-catia-v5-master-program?ref=outlook-calendar
STATUS:CONFIRMED
SEQUENCE:3
BEGIN:VALARM
TRIGGER:-PT10M
DESCRIPTION:Class Reminder
ACTION:DISPLAY
END:VALARM
END:VEVENT
END:VCALENDAR