BEGIN:VCALENDAR
VERSION:2.0
CALSCALE:GREGORIAN
BEGIN:VEVENT
URL:https://www.learndesk.us/class/6211271047249920/lesson/cbb292317c3bb99419250e9f4b14e426?ref=outlook-calendar
SUMMARY:Course Material Download
DTSTART;TZID=America/Los_Angeles:20260420T190000
DTEND;TZID=America/Los_Angeles:20260420T200000
LOCATION:https://www.learndesk.us/class/6211271047249920/lesson/cbb292317c3bb99419250e9f4b14e426?ref=outlook-calendar
DESCRIPTION: 
Please follow the instructions at https://www.flackbox.com/intro-san-nas-storage-resources to get all the course resources in a single download.


https://www.learndesk.us/class/6211271047249920/lesson/cbb292317c3bb99419250e9f4b14e426?ref=outlook-calendar
STATUS:CONFIRMED
SEQUENCE:3
BEGIN:VALARM
TRIGGER:-PT10M
DESCRIPTION:Class Reminder
ACTION:DISPLAY
END:VALARM
END:VEVENT
END:VCALENDAR