BEGIN:VCALENDAR
VERSION:2.0
CALSCALE:GREGORIAN
BEGIN:VEVENT
URL:https://www.learndesk.us/class/6211271047249920/lesson/6515a7f1584f9bfe102438df2c8d91ff?ref=outlook-calendar
SUMMARY:Converged and Hyper Converged Infrastructure HCI
DTSTART;TZID=America/Los_Angeles:20260420T190000
DTEND;TZID=America/Los_Angeles:20260420T200000
LOCATION:https://www.learndesk.us/class/6211271047249920/lesson/6515a7f1584f9bfe102438df2c8d91ff?ref=outlook-calendar
DESCRIPTION: https://www.learndesk.us/class/6211271047249920/lesson/6515a7f1584f9bfe102438df2c8d91ff?ref=outlook-calendar
STATUS:CONFIRMED
SEQUENCE:3
BEGIN:VALARM
TRIGGER:-PT10M
DESCRIPTION:Class Reminder
ACTION:DISPLAY
END:VALARM
END:VEVENT
END:VCALENDAR