BEGIN:VCALENDAR
VERSION:2.0
CALSCALE:GREGORIAN
BEGIN:VEVENT
URL:https://www.learndesk.us/class/6209631946801152/lesson/8b75e9bc8b3f286b5c52b55de5add565?ref=outlook-calendar
SUMMARY:Organizing Gmail
DTSTART;TZID=America/Los_Angeles:20260422T190000
DTEND;TZID=America/Los_Angeles:20260422T200000
LOCATION:https://www.learndesk.us/class/6209631946801152/lesson/8b75e9bc8b3f286b5c52b55de5add565?ref=outlook-calendar
DESCRIPTION: https://www.learndesk.us/class/6209631946801152/lesson/8b75e9bc8b3f286b5c52b55de5add565?ref=outlook-calendar
STATUS:CONFIRMED
SEQUENCE:3
BEGIN:VALARM
TRIGGER:-PT10M
DESCRIPTION:Class Reminder
ACTION:DISPLAY
END:VALARM
END:VEVENT
END:VCALENDAR