BEGIN:VCALENDAR
VERSION:2.0
CALSCALE:GREGORIAN
BEGIN:VEVENT
URL:https://www.learndesk.us/class/6209631946801152/lesson/44e5ae645f73a5938a13c6ddf2d2d987?ref=outlook-calendar
SUMMARY:Folder Strategy
DTSTART;TZID=America/Los_Angeles:20260420T190000
DTEND;TZID=America/Los_Angeles:20260420T200000
LOCATION:https://www.learndesk.us/class/6209631946801152/lesson/44e5ae645f73a5938a13c6ddf2d2d987?ref=outlook-calendar
DESCRIPTION: https://www.learndesk.us/class/6209631946801152/lesson/44e5ae645f73a5938a13c6ddf2d2d987?ref=outlook-calendar
STATUS:CONFIRMED
SEQUENCE:3
BEGIN:VALARM
TRIGGER:-PT10M
DESCRIPTION:Class Reminder
ACTION:DISPLAY
END:VALARM
END:VEVENT
END:VCALENDAR