BEGIN:VCALENDAR
VERSION:2.0
CALSCALE:GREGORIAN
BEGIN:VEVENT
URL:https://www.learndesk.us/class/6209631946801152/brain-bites-email-management?ref=outlook-calendar
SUMMARY:Brain Bites: Email Management
DTSTART;TZID=America/Los_Angeles:20260420T190000
DTEND;TZID=America/Los_Angeles:20260420T200000
LOCATION:https://www.learndesk.us/class/6209631946801152/brain-bites-email-management?ref=outlook-calendar
DESCRIPTION: 
From a frustrating chore to a powerful tool - Learn how to make email work for you
More than ever before people rely on email in the workplace – but we dread the amount of time it takes to read through and respond to all our messages.  This course will give you the skills you need to tame your email mountain and use it as the effective tool it’s meant to be.
Brain Bites micro-learning courses are information-rich and convey important topics with an engaging mix of video and animation. With 5-minute video lessons and 30-minute-or-less courses, Brain Bites are the perfect tool to educate today’s busy workforce.
What will you learn in this course?

Three goals of an email management strategy
Understanding the two types of bad email strategies
Using the built-in email folders, and adding your own
The five-step sorting process for managing emails
The differences between Gmail and other email programs with regards to folders and tags
How to convert emails into calendar appointments or...

https://www.learndesk.us/class/6209631946801152/brain-bites-email-management?ref=outlook-calendar
STATUS:CONFIRMED
SEQUENCE:3
BEGIN:VALARM
TRIGGER:-PT10M
DESCRIPTION:Class Reminder
ACTION:DISPLAY
END:VALARM
END:VEVENT
END:VCALENDAR