BEGIN:VCALENDAR
VERSION:2.0
CALSCALE:GREGORIAN
BEGIN:VEVENT
URL:https://www.learndesk.us/class/6157987716530176/lesson/e5e4d5891aca839f8a1e2352d997400d?ref=outlook-calendar
SUMMARY:03: The Golf Ball "Walk"
DTSTART;TZID=America/Los_Angeles:20260421T190000
DTEND;TZID=America/Los_Angeles:20260421T200000
LOCATION:https://www.learndesk.us/class/6157987716530176/lesson/e5e4d5891aca839f8a1e2352d997400d?ref=outlook-calendar
DESCRIPTION: Starting with an observational gesture drawing exercise on "Head rotation", the class moves on to teach students the basics of "Walk" animation, using a biped golf ball rig in Moho. The bonus "History" section at the end, covers early TV animation work, as well as some of the early work of Pixar.

https://www.learndesk.us/class/6157987716530176/lesson/e5e4d5891aca839f8a1e2352d997400d?ref=outlook-calendar
STATUS:CONFIRMED
SEQUENCE:3
BEGIN:VALARM
TRIGGER:-PT10M
DESCRIPTION:Class Reminder
ACTION:DISPLAY
END:VALARM
END:VEVENT
END:VCALENDAR