BEGIN:VCALENDAR
VERSION:2.0
CALSCALE:GREGORIAN
BEGIN:VEVENT
URL:https://www.learndesk.us/class/6157987716530176/lesson/c6029d780d3320226b9f021016bc7ed4?ref=outlook-calendar
SUMMARY:Welcome to My Digital Side
DTSTART;TZID=America/Los_Angeles:20260421T190000
DTEND;TZID=America/Los_Angeles:20260421T200000
LOCATION:https://www.learndesk.us/class/6157987716530176/lesson/c6029d780d3320226b9f021016bc7ed4?ref=outlook-calendar
DESCRIPTION: 
For this second class of the "In The Classroom With" series, I hope to show you how to get the maximum effect from the movement created in a rigged 2D character, digital environment.
Moho is a digital 2D animation platform that I admire and, although I personally love to produce high-level, traditional, hand-drawn animation when I can, I appreciate that most animators today will work in a digital environment. Therefore, I want to bring the best of my knowledge of traditional animation to students who want to make things move well digitally.
Digital animation software is amazing in what it can potentially achieve. However, learning software alone is not the way to becoming a master character animator. Software is just another tool, like the humble pencil, which should ultimately work in accordance with the animator's vision. It should never limit it. At the same time, the software is only as good as the person working it - and the skills they bring to the software. Software on its...

https://www.learndesk.us/class/6157987716530176/lesson/c6029d780d3320226b9f021016bc7ed4?ref=outlook-calendar
STATUS:CONFIRMED
SEQUENCE:3
BEGIN:VALARM
TRIGGER:-PT10M
DESCRIPTION:Class Reminder
ACTION:DISPLAY
END:VALARM
END:VEVENT
END:VCALENDAR