BEGIN:VCALENDAR
VERSION:2.0
CALSCALE:GREGORIAN
BEGIN:VEVENT
URL:https://www.learndesk.us/class/6157987716530176/lesson/c508d2d3ea281da4ceb16bece1da6148?ref=outlook-calendar
SUMMARY:10: The Digital "Throw 01"
DTSTART;TZID=America/Los_Angeles:20260421T190000
DTEND;TZID=America/Los_Angeles:20260421T200000
LOCATION:https://www.learndesk.us/class/6157987716530176/lesson/c508d2d3ea281da4ceb16bece1da6148?ref=outlook-calendar
DESCRIPTION: We begin class 10 with the third of our focused gesture drawing exercise - "Observation 03". Next, we learn how to do a throwing exercise in Moho, entitled "Pitcher". Finally, the "History" section at the end, features the work of the great British animation studio, Aardman.

https://www.learndesk.us/class/6157987716530176/lesson/c508d2d3ea281da4ceb16bece1da6148?ref=outlook-calendar
STATUS:CONFIRMED
SEQUENCE:3
BEGIN:VALARM
TRIGGER:-PT10M
DESCRIPTION:Class Reminder
ACTION:DISPLAY
END:VALARM
END:VEVENT
END:VCALENDAR