BEGIN:VCALENDAR
VERSION:2.0
CALSCALE:GREGORIAN
BEGIN:VEVENT
URL:https://www.learndesk.us/class/6157987716530176/lesson/86619f0e169351e61ff364a9d18b6732?ref=outlook-calendar
SUMMARY:09: The Digital "Snea"
DTSTART;TZID=America/Los_Angeles:20260421T190000
DTEND;TZID=America/Los_Angeles:20260421T200000
LOCATION:https://www.learndesk.us/class/6157987716530176/lesson/86619f0e169351e61ff364a9d18b6732?ref=outlook-calendar
DESCRIPTION: We start with another focused gesture drawing exercise - "Observation 02". After that, we move on to something new in Moho, which is the animated "Sneak" action. The "History" section at the end, continues with part of the first-ever British animated movie, "Animal Farm" - also produced at the Halas & Batchelor studio.

https://www.learndesk.us/class/6157987716530176/lesson/86619f0e169351e61ff364a9d18b6732?ref=outlook-calendar
STATUS:CONFIRMED
SEQUENCE:3
BEGIN:VALARM
TRIGGER:-PT10M
DESCRIPTION:Class Reminder
ACTION:DISPLAY
END:VALARM
END:VEVENT
END:VCALENDAR