BEGIN:VCALENDAR
VERSION:2.0
CALSCALE:GREGORIAN
BEGIN:VEVENT
URL:https://www.learndesk.us/class/6157987716530176/lesson/64f516d798b367493f63c46fb8a31e3a?ref=outlook-calendar
SUMMARY:08: The Digital "Double Jump"
DTSTART;TZID=America/Los_Angeles:20260421T190000
DTEND;TZID=America/Los_Angeles:20260421T200000
LOCATION:https://www.learndesk.us/class/6157987716530176/lesson/64f516d798b367493f63c46fb8a31e3a?ref=outlook-calendar
DESCRIPTION: This observational gesture drawing exercise is a more intensive approach to observation - not surprisingly entitled "Observation 01". The Moho instruction takes what we did with the first "Jump" exercise to the next level. The bonus "History" section at the end, takes us to some of the work of my first employer in London, the "Halas and Batchelor" studio.

https://www.learndesk.us/class/6157987716530176/lesson/64f516d798b367493f63c46fb8a31e3a?ref=outlook-calendar
STATUS:CONFIRMED
SEQUENCE:3
BEGIN:VALARM
TRIGGER:-PT10M
DESCRIPTION:Class Reminder
ACTION:DISPLAY
END:VALARM
END:VEVENT
END:VCALENDAR