BEGIN:VCALENDAR
VERSION:2.0
CALSCALE:GREGORIAN
BEGIN:VEVENT
URL:https://www.learndesk.us/class/6157987716530176/lesson/62cfc3d02bb857db83fab847e4e5c10b?ref=outlook-calendar
SUMMARY:02: The Digital "Bouncing Ball"
DTSTART;TZID=America/Los_Angeles:20260421T190000
DTEND;TZID=America/Los_Angeles:20260421T200000
LOCATION:https://www.learndesk.us/class/6157987716530176/lesson/62cfc3d02bb857db83fab847e4e5c10b?ref=outlook-calendar
DESCRIPTION: Starting with another observational gesture drawing exercise on "Balance", this class moves on to teach students the basics of the Moho platform, using a "Bouncing Ball" exercise to illustrate many of the tools and techniques. The bonus "History" section at the end, covers further the work of my old boss and mentor, Richard Williams.

https://www.learndesk.us/class/6157987716530176/lesson/62cfc3d02bb857db83fab847e4e5c10b?ref=outlook-calendar
STATUS:CONFIRMED
SEQUENCE:3
BEGIN:VALARM
TRIGGER:-PT10M
DESCRIPTION:Class Reminder
ACTION:DISPLAY
END:VALARM
END:VEVENT
END:VCALENDAR