BEGIN:VCALENDAR
VERSION:2.0
CALSCALE:GREGORIAN
BEGIN:VEVENT
URL:https://www.learndesk.us/class/6157987716530176/lesson/5922171a0f7dcc32c5568b0d219827de?ref=outlook-calendar
SUMMARY:01: The Secret of "Runs"
DTSTART;TZID=America/Los_Angeles:20260421T190000
DTEND;TZID=America/Los_Angeles:20260421T200000
LOCATION:https://www.learndesk.us/class/6157987716530176/lesson/5922171a0f7dcc32c5568b0d219827de?ref=outlook-calendar
DESCRIPTION: Starting with an observational gesture drawing exercise on "Balance", this class moves on to explore the secrets of animated "Runs" and how to implement them in a traditional environment. The material covered here will be quite digitally applicable too, once you explore the Moho platform throughout this course. The bonus "History" section at the end, covers primarily the work of my old boss and mentor, Richard Williams.

https://www.learndesk.us/class/6157987716530176/lesson/5922171a0f7dcc32c5568b0d219827de?ref=outlook-calendar
STATUS:CONFIRMED
SEQUENCE:3
BEGIN:VALARM
TRIGGER:-PT10M
DESCRIPTION:Class Reminder
ACTION:DISPLAY
END:VALARM
END:VEVENT
END:VCALENDAR