BEGIN:VCALENDAR
VERSION:2.0
CALSCALE:GREGORIAN
BEGIN:VEVENT
URL:https://www.learndesk.us/class/6157987716530176/lesson/57ed9959edf0dac1587fbf2a0997b000?ref=outlook-calendar
SUMMARY:06: "Walks 02"
DTSTART;TZID=America/Los_Angeles:20260421T190000
DTEND;TZID=America/Los_Angeles:20260421T200000
LOCATION:https://www.learndesk.us/class/6157987716530176/lesson/57ed9959edf0dac1587fbf2a0997b000?ref=outlook-calendar
DESCRIPTION: The observational gesture drawing exercise returns to the subject of "Coffee drinkers" poses. The Moho section continues with the rigged "Walk" action. The bonus "History" section at the end, looks at the works of Irish animators.

https://www.learndesk.us/class/6157987716530176/lesson/57ed9959edf0dac1587fbf2a0997b000?ref=outlook-calendar
STATUS:CONFIRMED
SEQUENCE:3
BEGIN:VALARM
TRIGGER:-PT10M
DESCRIPTION:Class Reminder
ACTION:DISPLAY
END:VALARM
END:VEVENT
END:VCALENDAR