BEGIN:VCALENDAR
VERSION:2.0
CALSCALE:GREGORIAN
BEGIN:VEVENT
URL:https://www.learndesk.us/class/6157987716530176/lesson/41c41c5de1f66e1e1f83f3bba66f6feb?ref=outlook-calendar
SUMMARY:07: "Basic Jump"
DTSTART;TZID=America/Los_Angeles:20260425T190000
DTEND;TZID=America/Los_Angeles:20260425T200000
LOCATION:https://www.learndesk.us/class/6157987716530176/lesson/41c41c5de1f66e1e1f83f3bba66f6feb?ref=outlook-calendar
DESCRIPTION: Starting the class with an observational gesture drawing exercise on "Dance", this class moves on to show students how to animate a "Basic jump" action in Moho, for an animated greeting. The bonus "History" section at the end features the award-winning British short film, "The Snowman".

https://www.learndesk.us/class/6157987716530176/lesson/41c41c5de1f66e1e1f83f3bba66f6feb?ref=outlook-calendar
STATUS:CONFIRMED
SEQUENCE:3
BEGIN:VALARM
TRIGGER:-PT10M
DESCRIPTION:Class Reminder
ACTION:DISPLAY
END:VALARM
END:VEVENT
END:VCALENDAR