BEGIN:VCALENDAR
VERSION:2.0
CALSCALE:GREGORIAN
BEGIN:VEVENT
URL:https://www.learndesk.us/class/6157987716530176/lesson/349aac4650c74c7c354ee2463db3db56?ref=outlook-calendar
SUMMARY:11: The Digital "Throw 02"
DTSTART;TZID=America/Los_Angeles:20260421T190000
DTEND;TZID=America/Los_Angeles:20260421T200000
LOCATION:https://www.learndesk.us/class/6157987716530176/lesson/349aac4650c74c7c354ee2463db3db56?ref=outlook-calendar
DESCRIPTION: This penultimate class starts with the last of our focused gesture drawing exercises - "Observation 04". After that, we conclude our section on the Moho-based throwing action, "Pitcher". The "History" section at the end of this class, mainly presents a Burbank presentation, given by the amazing Argentian animator/artist, Oscar Grillo.

https://www.learndesk.us/class/6157987716530176/lesson/349aac4650c74c7c354ee2463db3db56?ref=outlook-calendar
STATUS:CONFIRMED
SEQUENCE:3
BEGIN:VALARM
TRIGGER:-PT10M
DESCRIPTION:Class Reminder
ACTION:DISPLAY
END:VALARM
END:VEVENT
END:VCALENDAR