BEGIN:VCALENDAR
VERSION:2.0
CALSCALE:GREGORIAN
BEGIN:VEVENT
URL:https://www.learndesk.us/class/6157987716530176/lesson/30653c341e2eae1e0cb24632099da5d4?ref=outlook-calendar
SUMMARY:04: The Basic "Jump"
DTSTART;TZID=America/Los_Angeles:20260421T190000
DTEND;TZID=America/Los_Angeles:20260421T200000
LOCATION:https://www.learndesk.us/class/6157987716530176/lesson/30653c341e2eae1e0cb24632099da5d4?ref=outlook-calendar
DESCRIPTION: The warm-up observational gesture drawing exercise opening this class is on "Jumps", as is the Moho instruction. The bonus "History" section at the end, deals with the closure of the once-great Disney traditional animation studio, plus a look at the emerging indie talent that arrived on the animation scene subsequent to that.

https://www.learndesk.us/class/6157987716530176/lesson/30653c341e2eae1e0cb24632099da5d4?ref=outlook-calendar
STATUS:CONFIRMED
SEQUENCE:3
BEGIN:VALARM
TRIGGER:-PT10M
DESCRIPTION:Class Reminder
ACTION:DISPLAY
END:VALARM
END:VEVENT
END:VCALENDAR