BEGIN:VCALENDAR
VERSION:2.0
CALSCALE:GREGORIAN
BEGIN:VEVENT
URL:https://www.learndesk.us/class/6157987716530176/lesson/148785780f1d82f070f9a6d5b14bbc89?ref=outlook-calendar
SUMMARY:05: "Walks 01"
DTSTART;TZID=America/Los_Angeles:20260421T190000
DTEND;TZID=America/Los_Angeles:20260421T200000
LOCATION:https://www.learndesk.us/class/6157987716530176/lesson/148785780f1d82f070f9a6d5b14bbc89?ref=outlook-calendar
DESCRIPTION: Starting with an observational gesture drawing exercise on "Walks", the Moho instruction section does likewise, using a rigged "Arnie" biped character. The "History" section at the end, focuses primarily on the short animated film work of the Canadian Film Board.

https://www.learndesk.us/class/6157987716530176/lesson/148785780f1d82f070f9a6d5b14bbc89?ref=outlook-calendar
STATUS:CONFIRMED
SEQUENCE:3
BEGIN:VALARM
TRIGGER:-PT10M
DESCRIPTION:Class Reminder
ACTION:DISPLAY
END:VALARM
END:VEVENT
END:VCALENDAR