BEGIN:VCALENDAR
VERSION:2.0
CALSCALE:GREGORIAN
BEGIN:VEVENT
URL:https://www.learndesk.us/class/6157987716530176/lesson/138965c4114aaef6324cceeaeaca6935?ref=outlook-calendar
SUMMARY:12: Film Pre-Production
DTSTART;TZID=America/Los_Angeles:20260421T190000
DTEND;TZID=America/Los_Angeles:20260421T200000
LOCATION:https://www.learndesk.us/class/6157987716530176/lesson/138965c4114aaef6324cceeaeaca6935?ref=outlook-calendar
DESCRIPTION: This final class starts with a series of very fast, gesture drawing exercises - based on the sequential movement of a "Qi Gong" teacher. Following that, we wrap up the course by addressing the process of preparing for the Pre-production of an animated film - to be animated in either traditional/ hand-drawn 2D or digital 2D. There is no "History" material included in this section.

https://www.learndesk.us/class/6157987716530176/lesson/138965c4114aaef6324cceeaeaca6935?ref=outlook-calendar
STATUS:CONFIRMED
SEQUENCE:3
BEGIN:VALARM
TRIGGER:-PT10M
DESCRIPTION:Class Reminder
ACTION:DISPLAY
END:VALARM
END:VEVENT
END:VCALENDAR