BEGIN:VCALENDAR
VERSION:2.0
CALSCALE:GREGORIAN
BEGIN:VEVENT
URL:https://www.learndesk.us/class/6157987716530176/in-the-classroom-with-tony-white-working-with-moho?ref=outlook-calendar
SUMMARY:In The Classroom With Tony White: Working with MOHO
DTSTART;TZID=America/Los_Angeles:20260421T190000
DTEND;TZID=America/Los_Angeles:20260421T200000
LOCATION:https://www.learndesk.us/class/6157987716530176/in-the-classroom-with-tony-white-working-with-moho?ref=outlook-calendar
DESCRIPTION: "If you think something, you can draw it - and if you can draw something, you can animate it."
Origins:
Every year since 2020 respected instructor, Tony White has hosted a program of 48 "live and online" classes on animation, film production, and graphic storytelling. This "Working in Moho" on-demand course is one of 4 that record Tony's teaching in the classroom from those live classes.
Course content:
This course adds more "core principles of movement" in a digital 2D (Moho) environment, previously taught in his traditional hand-drawn, 2D animation course 1. Not entirely deserting traditional 2D animation with the first "Runs" assignment, the rest of the course does cover additional important animated actions, created in the Moho digital environment. However, the course is not a teaching Moho software course, so animators of all persuasion can learn from the techniques and content presented.
Who should take this course?
Tony's live courses have been primarily taught to young high...

https://www.learndesk.us/class/6157987716530176/in-the-classroom-with-tony-white-working-with-moho?ref=outlook-calendar
STATUS:CONFIRMED
SEQUENCE:3
BEGIN:VALARM
TRIGGER:-PT10M
DESCRIPTION:Class Reminder
ACTION:DISPLAY
END:VALARM
END:VEVENT
END:VCALENDAR