BEGIN:VCALENDAR
VERSION:2.0
CALSCALE:GREGORIAN
BEGIN:VEVENT
URL:https://www.learndesk.us/class/6157447104299008/know-your-heritage?ref=outlook-calendar
SUMMARY:Know Your Heritage
DTSTART;TZID=America/Los_Angeles:20260420T190000
DTEND;TZID=America/Los_Angeles:20260420T200000
LOCATION:https://www.learndesk.us/class/6157447104299008/know-your-heritage?ref=outlook-calendar
DESCRIPTION: What will you learn in this course?
This course will help you discover how our DNA, daily life, conditioning, and heritage impact our confidence.
You will get:

2 videos and a series of Personal Tasks.
About an hour and a half of learning and reflection to complete at your own pace.
The inspiration and knowledge of a TED talk combined with the increased self-awareness, actions, and results of a coaching session.

Who should take this course?

This class will benefit everyone, no matter their age or gender.

This course is for you if:

If you feel like you are living on auto-pilot.
If you know you have got more to give.
If you would like to explore your conditioning.
If you want to boost your confidence.

What's next:
This course is part of a 10-step course available on this site called "The Art of Confidence". You can buy individual steps or buy the 10-step program (more cost-effective if you want to do all 10 steps) here is the link...

https://www.learndesk.us/class/6157447104299008/know-your-heritage?ref=outlook-calendar
STATUS:CONFIRMED
SEQUENCE:3
BEGIN:VALARM
TRIGGER:-PT10M
DESCRIPTION:Class Reminder
ACTION:DISPLAY
END:VALARM
END:VEVENT
END:VCALENDAR