BEGIN:VCALENDAR
VERSION:2.0
CALSCALE:GREGORIAN
BEGIN:VEVENT
URL:https://www.learndesk.us/class/6144521790291968/lesson/df485d84a7f1f111ee0b9a516a251a2e?ref=outlook-calendar
SUMMARY:The Big Picture
DTSTART;TZID=America/Los_Angeles:20260425T190000
DTEND;TZID=America/Los_Angeles:20260425T200000
LOCATION:https://www.learndesk.us/class/6144521790291968/lesson/df485d84a7f1f111ee0b9a516a251a2e?ref=outlook-calendar
DESCRIPTION: https://www.learndesk.us/class/6144521790291968/lesson/df485d84a7f1f111ee0b9a516a251a2e?ref=outlook-calendar
STATUS:CONFIRMED
SEQUENCE:3
BEGIN:VALARM
TRIGGER:-PT10M
DESCRIPTION:Class Reminder
ACTION:DISPLAY
END:VALARM
END:VEVENT
END:VCALENDAR